BEGIN:VCALENDAR
VERSION:2.0
PRODID:-//Tukios.com/
BEGIN:VEVENT
UID:9e75aad0-fe87-4f91-b4dd-6a7f6b751887@www.boonenickellfuneralhome.com
DTSTAMP:20260424T010645Z
DTSTART:20260427T200000Z
DTEND:20260427T230000Z
SUMMARY:Visitation
DESCRIPTION:
URL:https://www.boonenickellfuneralhome.com/obituaries/amanda-highfield
LOCATION:Simons Middle School 242 West Water Street  Flemingsburg KY 
	41041
GEO:38.4260601;-83.7364172
END:VEVENT
END:VCALENDAR