BEGIN:VCALENDAR
VERSION:2.0
PRODID:-//Tukios.com/
BEGIN:VEVENT
UID:c43c764d-bae1-4140-b505-bd1b401799bb@www.boonenickellfuneralhome.com
DTSTAMP:20260424T010439Z
DTSTART:20260427T230000Z
DTEND:20260428T000000Z
SUMMARY:Funeral Service
DESCRIPTION:
URL:https://www.boonenickellfuneralhome.com/obituaries/amanda-highfield
LOCATION:Simons Middle School 242 West Water Street  Flemingsburg KY 
	41041
GEO:38.4260601;-83.7364172
END:VEVENT
END:VCALENDAR