BEGIN:VCALENDAR
VERSION:2.0
PRODID:-//Tukios.com/
BEGIN:VEVENT
UID:9303a4f2-94cd-4d91-aab2-6141518efd63@www.boonenickellfuneralhome.com
DTSTAMP:20260424T010645Z
DTSTART:20260428T150000Z
DTEND:20260428T160000Z
SUMMARY:Burial
DESCRIPTION:
URL:https://www.boonenickellfuneralhome.com/obituaries/amanda-highfield
LOCATION:Mount Carmel Cemetery Poplar Grove Road  Fllemingsburg KY 41041
GEO:38.4928776;-83.661503
END:VEVENT
END:VCALENDAR