BEGIN:VCALENDAR
VERSION:2.0
PRODID:-//Tukios.com/
BEGIN:VEVENT
UID:9c017ebd-a10e-4569-aed9-dc3a4a61a678@www.boonenickellfuneralhome.com
DTSTAMP:20260422T172645Z
DTSTART:20260501T170000Z
DTEND:20260501T180000Z
SUMMARY:Graveside Service
DESCRIPTION:
URL:https://www.boonenickellfuneralhome.com/obituaries/judy-fryman
LOCATION:Elizaville Cemetery Hilltop Road  Ewing KY 41039
GEO:38.3711867;-83.8362421
END:VEVENT
END:VCALENDAR