BEGIN:VCALENDAR
VERSION:2.0
PRODID:-//Tukios.com/
BEGIN:VEVENT
UID:f283555d-40f6-4f9e-b55e-cbe96650ec83@www.boonenickellfuneralhome.com
DTSTAMP:20260425T221053Z
DTSTART:20260430T150000Z
DTEND:20260430T170000Z
SUMMARY:Visitation
DESCRIPTION:
URL:https://www.boonenickellfuneralhome.com/obituaries/larry-smith
LOCATION:Boone-Nickell Funeral Home 150 W Water St  Flemingsburg KY 41041
GEO:38.4234976;-83.7353036
END:VEVENT
END:VCALENDAR