BEGIN:VCALENDAR
VERSION:2.0
PRODID:-//Tukios.com/
BEGIN:VEVENT
UID:e29ec7ed-eeaa-4ab1-8bc9-41a8a08edebd@www.boonenickellfuneralhome.com
DTSTAMP:20260425T220614Z
DTSTART:20260430T170000Z
DTEND:20260430T180000Z
SUMMARY:Funeral Service
DESCRIPTION:
URL:https://www.boonenickellfuneralhome.com/obituaries/larry-smith
LOCATION:Boone-Nickell Funeral Home 150 W Water St  Flemingsburg KY 41041
GEO:38.4234976;-83.7353036
END:VEVENT
END:VCALENDAR