BEGIN:VCALENDAR
VERSION:2.0
PRODID:-//Tukios.com/
BEGIN:VEVENT
UID:acc75199-7426-45b3-96ba-58ffc61c01b7@www.boonenickellfuneralhome.com
DTSTAMP:20260420T192504Z
DTSTART:20260425T150000Z
DTEND:20260425T170000Z
SUMMARY:Visitation
DESCRIPTION:
URL:https://www.boonenickellfuneralhome.com/obituaries/wanda-saunders-downey
LOCATION: 1431 Helena Rd  Flemingsburg KY 41041
GEO:38.4431386;-83.7554983
END:VEVENT
END:VCALENDAR