BEGIN:VCALENDAR
VERSION:2.0
PRODID:-//Tukios.com/
BEGIN:VEVENT
UID:2f3600f1-e729-4fda-9730-4f986753e8e2@www.boonenickellfuneralhome.com
DTSTAMP:20260420T192801Z
DTSTART:20260425T170000Z
DTEND:20260425T180000Z
SUMMARY:Funeral Service
DESCRIPTION:
URL:https://www.boonenickellfuneralhome.com/obituaries/wanda-saunders-downey
LOCATION: 1431 Helena Rd  Flemingsburg KY 41041
GEO:38.4431386;-83.7554983
END:VEVENT
END:VCALENDAR